
BEGIN:VCALENDAR
VERSION:2.0
PRODID:-//Phek Government College - ECPv6.15.20//NONSGML v1.0//EN
CALSCALE:GREGORIAN
METHOD:PUBLISH
X-ORIGINAL-URL:https://phekgovernmentcollege.com
X-WR-CALDESC:Events for Phek Government College
REFRESH-INTERVAL;VALUE=DURATION:PT1H
X-Robots-Tag:noindex
X-PUBLISHED-TTL:PT1H
BEGIN:VTIMEZONE
TZID:Asia/Kolkata
BEGIN:STANDARD
TZOFFSETFROM:+0530
TZOFFSETTO:+0530
TZNAME:IST
DTSTART:20240101T000000
END:STANDARD
END:VTIMEZONE
BEGIN:VEVENT
DTSTART;VALUE=DATE:20250305
DTEND;VALUE=DATE:20250308
DTSTAMP:20260425T063606
CREATED:20250303T043229Z
LAST-MODIFIED:20250303T043255Z
UID:3277-1741132800-1741391999@phekgovernmentcollege.com
SUMMARY:42nd Sports Week
DESCRIPTION:PGC Sports Meet 2025 Events and Groups
URL:https://phekgovernmentcollege.com/event/sports-week/
LOCATION:Phek Government College\, Phek Government College\, Phek\, Nagaland\, 797108\, India
ATTACH;FMTTYPE=image/jpeg:https://phekgovernmentcollege.com/wp-content/uploads/2021/05/pgc_featured_img_default.jpg
END:VEVENT
BEGIN:VEVENT
DTSTART;TZID=Asia/Kolkata:20260420T130000
DTEND;TZID=Asia/Kolkata:20260508T150000
DTSTAMP:20260425T063606
CREATED:20260408T161248Z
LAST-MODIFIED:20260408T161746Z
UID:3364-1776690000-1778252400@phekgovernmentcollege.com
SUMMARY:University End Semester Examination 2026 for BA/BSc 6th Semester
DESCRIPTION:Final extracted routine (BA_BSc 6 Sem ESE 2026)
URL:https://phekgovernmentcollege.com/event/university-end-semester-examination-2026-for-ba-bsc-6th-semester/
CATEGORIES:Examinations
ATTACH;FMTTYPE=image/jpeg:https://phekgovernmentcollege.com/wp-content/uploads/2021/05/pgc_featured_img_default.jpg
END:VEVENT
END:VCALENDAR