
BEGIN:VCALENDAR
VERSION:2.0
PRODID:-//Phek Government College - ECPv6.15.20//NONSGML v1.0//EN
CALSCALE:GREGORIAN
METHOD:PUBLISH
X-WR-CALNAME:Phek Government College
X-ORIGINAL-URL:https://phekgovernmentcollege.com
X-WR-CALDESC:Events for Phek Government College
REFRESH-INTERVAL;VALUE=DURATION:PT1H
X-Robots-Tag:noindex
X-PUBLISHED-TTL:PT1H
BEGIN:VTIMEZONE
TZID:Asia/Kolkata
BEGIN:STANDARD
TZOFFSETFROM:+0530
TZOFFSETTO:+0530
TZNAME:IST
DTSTART:20180101T000000
END:STANDARD
END:VTIMEZONE
BEGIN:VEVENT
DTSTART;TZID=Asia/Kolkata:20220323T080000
DTEND;TZID=Asia/Kolkata:20220326T170000
DTSTAMP:20260424T191644
CREATED:20220320T024631Z
LAST-MODIFIED:20220320T024631Z
UID:1705-1648022400-1648314000@phekgovernmentcollege.com
SUMMARY:Sports week 2022
DESCRIPTION:
URL:https://phekgovernmentcollege.com/event/sports-week-2022/
ATTACH;FMTTYPE=image/jpeg:https://phekgovernmentcollege.com/wp-content/uploads/2021/05/pgc_featured_img_default.jpg
END:VEVENT
BEGIN:VEVENT
DTSTART;TZID=Asia/Kolkata:20220301T080000
DTEND;TZID=Asia/Kolkata:20220325T170000
DTSTAMP:20260424T191644
CREATED:20220320T024757Z
LAST-MODIFIED:20220320T024757Z
UID:1707-1646121600-1648227600@phekgovernmentcollege.com
SUMMARY:Internal assessment-2022
DESCRIPTION:
URL:https://phekgovernmentcollege.com/event/internal-assessment-2022/
ATTACH;FMTTYPE=image/jpeg:https://phekgovernmentcollege.com/wp-content/uploads/2021/05/pgc_featured_img_default.jpg
END:VEVENT
BEGIN:VEVENT
DTSTART;TZID=Asia/Kolkata:20220201T100000
DTEND;TZID=Asia/Kolkata:20220201T143000
DTSTAMP:20260424T191644
CREATED:20210702T094503Z
LAST-MODIFIED:20220320T024529Z
UID:1369-1643709600-1643725800@phekgovernmentcollege.com
SUMMARY:Reopening of College
DESCRIPTION:
URL:https://phekgovernmentcollege.com/event/reopening-of-college/
ATTACH;FMTTYPE=image/jpeg:https://phekgovernmentcollege.com/wp-content/uploads/2021/05/pgc_featured_img_default.jpg
END:VEVENT
BEGIN:VEVENT
DTSTART;TZID=Asia/Kolkata:20211215T080000
DTEND;TZID=Asia/Kolkata:20220118T170000
DTSTAMP:20260424T191644
CREATED:20210702T094159Z
LAST-MODIFIED:20210702T094159Z
UID:1367-1639555200-1642525200@phekgovernmentcollege.com
SUMMARY:Winter Break
DESCRIPTION:
URL:https://phekgovernmentcollege.com/event/winter-break/
ATTACH;FMTTYPE=image/jpeg:https://phekgovernmentcollege.com/wp-content/uploads/2021/05/pgc_featured_img_default.jpg
END:VEVENT
BEGIN:VEVENT
DTSTART;TZID=Asia/Kolkata:20210827T080000
DTEND;TZID=Asia/Kolkata:20210827T170000
DTSTAMP:20260424T191644
CREATED:20210702T093131Z
LAST-MODIFIED:20210702T093131Z
UID:1357-1630051200-1630083600@phekgovernmentcollege.com
SUMMARY:Freshers Day
DESCRIPTION:
URL:https://phekgovernmentcollege.com/event/freshers-day/
ATTACH;FMTTYPE=image/jpeg:https://phekgovernmentcollege.com/wp-content/uploads/2021/05/pgc_featured_img_default.jpg
END:VEVENT
BEGIN:VEVENT
DTSTART;TZID=Asia/Kolkata:20210527T083000
DTEND;TZID=Asia/Kolkata:20210610T170000
DTSTAMP:20260424T191644
CREATED:20210419T134214Z
LAST-MODIFIED:20210419T134214Z
UID:1206-1622104200-1623344400@phekgovernmentcollege.com
SUMMARY:Even Semester Examination 2021
DESCRIPTION:
URL:https://phekgovernmentcollege.com/event/even-semester-examination-2021/
ATTACH;FMTTYPE=image/jpeg:https://phekgovernmentcollege.com/wp-content/uploads/2021/05/pgc_featured_img_default.jpg
END:VEVENT
BEGIN:VEVENT
DTSTART;TZID=Asia/Kolkata:20210503T093000
DTEND;TZID=Asia/Kolkata:20210505T153000
DTSTAMP:20260424T191644
CREATED:20210318T114231Z
LAST-MODIFIED:20210318T114231Z
UID:1155-1620034200-1620228600@phekgovernmentcollege.com
SUMMARY:Filling of examination forms
DESCRIPTION:
URL:https://phekgovernmentcollege.com/event/filling-of-examination-forms/
ATTACH;FMTTYPE=image/jpeg:https://phekgovernmentcollege.com/wp-content/uploads/2021/05/pgc_featured_img_default.jpg
END:VEVENT
BEGIN:VEVENT
DTSTART;TZID=Asia/Kolkata:20210426T093000
DTEND;TZID=Asia/Kolkata:20210426T170000
DTSTAMP:20260424T191644
CREATED:20210318T114403Z
LAST-MODIFIED:20210318T114403Z
UID:1157-1619429400-1619456400@phekgovernmentcollege.com
SUMMARY:Declaration of eligible candidates
DESCRIPTION:
URL:https://phekgovernmentcollege.com/event/declaration-of-eligible-candidates/
CATEGORIES:Examinations,Results
ATTACH;FMTTYPE=image/jpeg:https://phekgovernmentcollege.com/wp-content/uploads/2021/05/pgc_featured_img_default.jpg
END:VEVENT
BEGIN:VEVENT
DTSTART;TZID=Asia/Kolkata:20210416T093000
DTEND;TZID=Asia/Kolkata:20210416T170000
DTSTAMP:20260424T191644
CREATED:20210414T155119Z
LAST-MODIFIED:20210414T155119Z
UID:1196-1618565400-1618592400@phekgovernmentcollege.com
SUMMARY:Phek Government College Students' Union Election
DESCRIPTION:
URL:https://phekgovernmentcollege.com/event/phek-government-college-students-union-election/
ATTACH;FMTTYPE=image/jpeg:https://phekgovernmentcollege.com/wp-content/uploads/2021/05/pgc_featured_img_default.jpg
END:VEVENT
BEGIN:VEVENT
DTSTART;TZID=Asia/Kolkata:20210325T080000
DTEND;TZID=Asia/Kolkata:20210327T170000
DTSTAMP:20260424T191644
CREATED:20210329T141343Z
LAST-MODIFIED:20210329T141520Z
UID:1176-1616659200-1616864400@phekgovernmentcollege.com
SUMMARY:Sports Week 2021
DESCRIPTION:
URL:https://phekgovernmentcollege.com/event/sports-week-2021/
CATEGORIES:Sports Week
ATTACH;FMTTYPE=image/jpeg:https://phekgovernmentcollege.com/wp-content/uploads/2021/05/pgc_featured_img_default.jpg
END:VEVENT
BEGIN:VEVENT
DTSTART;TZID=Asia/Kolkata:20210322T093000
DTEND;TZID=Asia/Kolkata:20210409T153000
DTSTAMP:20260424T191644
CREATED:20210318T114017Z
LAST-MODIFIED:20210318T114017Z
UID:1153-1616405400-1617982200@phekgovernmentcollege.com
SUMMARY:Internal test and paper presentation
DESCRIPTION:
URL:https://phekgovernmentcollege.com/event/internal-test-and-paper-presentation/
ATTACH;FMTTYPE=image/jpeg:https://phekgovernmentcollege.com/wp-content/uploads/2021/05/pgc_featured_img_default.jpg
END:VEVENT
BEGIN:VEVENT
DTSTART;TZID=Asia/Kolkata:20201213T090000
DTEND;TZID=Asia/Kolkata:20210120T170000
DTSTAMP:20260424T191644
CREATED:20180606T162838Z
LAST-MODIFIED:20200213T132543Z
UID:253-1607850000-1611162000@phekgovernmentcollege.com
SUMMARY:Winter Break 2020-2021
DESCRIPTION:Winter Break from 13th December\, 2020 – 20th January\, 2021
URL:https://phekgovernmentcollege.com/event/winter-break-2018-2019/
CATEGORIES:General
ATTACH;FMTTYPE=image/jpeg:https://phekgovernmentcollege.com/wp-content/uploads/2021/05/pgc_featured_img_default.jpg
END:VEVENT
BEGIN:VEVENT
DTSTART;TZID=Asia/Kolkata:20201109T090000
DTEND;TZID=Asia/Kolkata:20201109T170000
DTSTAMP:20260424T191644
CREATED:20180606T162658Z
LAST-MODIFIED:20200213T132952Z
UID:251-1604912400-1604941200@phekgovernmentcollege.com
SUMMARY:Class starts for Even Semesters
DESCRIPTION:Class starts for Even Semesters
URL:https://phekgovernmentcollege.com/event/class-starts-for-even-semesters/
CATEGORIES:Classes,General
ATTACH;FMTTYPE=image/jpeg:https://phekgovernmentcollege.com/wp-content/uploads/2021/05/pgc_featured_img_default.jpg
END:VEVENT
BEGIN:VEVENT
DTSTART;TZID=Asia/Kolkata:20201102T093000
DTEND;TZID=Asia/Kolkata:20201107T170000
DTSTAMP:20260424T191644
CREATED:20190206T162601Z
LAST-MODIFIED:20200213T133426Z
UID:249-1604309400-1604768400@phekgovernmentcollege.com
SUMMARY:Results and Admission to 2nd\, 4th & 6th Semesters
DESCRIPTION:Results and Admission to 2nd\, 4th & 6th Semesters
URL:https://phekgovernmentcollege.com/event/results-and-admission-to-2nd4th-6thsemesters/
CATEGORIES:Admissions,Results
ATTACH;FMTTYPE=image/jpeg:https://phekgovernmentcollege.com/wp-content/uploads/2021/05/pgc_featured_img_default.jpg
END:VEVENT
BEGIN:VEVENT
DTSTART;TZID=Asia/Kolkata:20201027T090000
DTEND;TZID=Asia/Kolkata:20201031T170000
DTSTAMP:20260424T191644
CREATED:20190206T162506Z
LAST-MODIFIED:20200213T133201Z
UID:247-1603789200-1604163600@phekgovernmentcollege.com
SUMMARY:Autumn Fest (Sports Week) 2020
DESCRIPTION:Sports Week 2020
URL:https://phekgovernmentcollege.com/event/sports-week-2018/
CATEGORIES:Sports Week
ATTACH;FMTTYPE=image/jpeg:https://phekgovernmentcollege.com/wp-content/uploads/2021/05/pgc_featured_img_default.jpg
END:VEVENT
BEGIN:VEVENT
DTSTART;TZID=Asia/Kolkata:20201007T090000
DTEND;TZID=Asia/Kolkata:20201023T170000
DTSTAMP:20260424T191644
CREATED:20190206T162416Z
LAST-MODIFIED:20200213T133615Z
UID:245-1602061200-1603472400@phekgovernmentcollege.com
SUMMARY:End Semester Exam of 1st\, 3rd & 5th Semesters
DESCRIPTION:End Semester Exam of 1st\, 3rd & 5th Semesters
URL:https://phekgovernmentcollege.com/event/end-semester-exam-of-1st3rd-5th-semesters/
CATEGORIES:Examinations
ATTACH;FMTTYPE=image/jpeg:https://phekgovernmentcollege.com/wp-content/uploads/2021/05/pgc_featured_img_default.jpg
END:VEVENT
BEGIN:VEVENT
DTSTART;TZID=Asia/Kolkata:20200710T093000
DTEND;TZID=Asia/Kolkata:20200710T160000
DTSTAMP:20260424T191644
CREATED:20190206T162028Z
LAST-MODIFIED:20200213T132733Z
UID:237-1594373400-1594396800@phekgovernmentcollege.com
SUMMARY:Last date for submission of Home Assignments
DESCRIPTION:Last date for submission of Home Assignments
URL:https://phekgovernmentcollege.com/event/last-date-for-submission-of-home-assignments/
CATEGORIES:Assignments
ATTACH;FMTTYPE=image/jpeg:https://phekgovernmentcollege.com/wp-content/uploads/2021/05/pgc_featured_img_default.jpg
END:VEVENT
BEGIN:VEVENT
DTSTART;VALUE=DATE:20200708
DTEND;VALUE=DATE:20200709
DTSTAMP:20260424T191644
CREATED:20190206T161823Z
LAST-MODIFIED:20200213T104016Z
UID:233-1594166400-1594252799@phekgovernmentcollege.com
SUMMARY:College Reopens after Summer Break
DESCRIPTION:College Reopens after Summer Break.
URL:https://phekgovernmentcollege.com/event/college-reopens-after-summer-break-10-july-2018/
CATEGORIES:General
ATTACH;FMTTYPE=image/jpeg:https://phekgovernmentcollege.com/wp-content/uploads/2021/05/pgc_featured_img_default.jpg
END:VEVENT
BEGIN:VEVENT
DTSTART;VALUE=DATE:20200608
DTEND;VALUE=DATE:20200708
DTSTAMP:20260424T191644
CREATED:20190206T161633Z
LAST-MODIFIED:20200213T103802Z
UID:230-1591574400-1594166399@phekgovernmentcollege.com
SUMMARY:Summer Break
DESCRIPTION:Summer Break .
URL:https://phekgovernmentcollege.com/event/summer-break/
CATEGORIES:General
ATTACH;FMTTYPE=image/jpeg:https://phekgovernmentcollege.com/wp-content/uploads/2021/05/pgc_featured_img_default.jpg
END:VEVENT
BEGIN:VEVENT
DTSTART;TZID=Asia/Kolkata:20200519T080000
DTEND;TZID=Asia/Kolkata:20200519T160000
DTSTAMP:20260424T191644
CREATED:20190206T161539Z
LAST-MODIFIED:20200213T104255Z
UID:227-1589875200-1589904000@phekgovernmentcollege.com
SUMMARY:Commencement of classes
DESCRIPTION:Commencement of classes
URL:https://phekgovernmentcollege.com/event/class-starts-for-3rd-and-5th-semesters/
CATEGORIES:General
ATTACH;FMTTYPE=image/jpeg:https://phekgovernmentcollege.com/wp-content/uploads/2021/05/pgc_featured_img_default.jpg
END:VEVENT
BEGIN:VEVENT
DTSTART;TZID=Asia/Kolkata:20200518T080000
DTEND;TZID=Asia/Kolkata:20200518T160000
DTSTAMP:20260424T191644
CREATED:20190206T161921Z
LAST-MODIFIED:20200213T071337Z
UID:235-1589788800-1589817600@phekgovernmentcollege.com
SUMMARY:Orientation Program for new students and parents
DESCRIPTION:Orientation Program for new students and parents.
URL:https://phekgovernmentcollege.com/event/orientation-program-for-new-students-and-parents/
CATEGORIES:Admissions,General
ATTACH;FMTTYPE=image/jpeg:https://phekgovernmentcollege.com/wp-content/uploads/2021/05/pgc_featured_img_default.jpg
END:VEVENT
BEGIN:VEVENT
DTSTART;TZID=Asia/Kolkata:20200511T093000
DTEND;TZID=Asia/Kolkata:20200515T150000
DTSTAMP:20260424T191644
CREATED:20190326T015159Z
LAST-MODIFIED:20200213T065502Z
UID:681-1589189400-1589554800@phekgovernmentcollege.com
SUMMARY:B.A/B.Sc. New admission
DESCRIPTION:B.A/B.Sc. New admission/Scrutiny and screening tests
URL:https://phekgovernmentcollege.com/event/b-a-b-sc-new-admission/
ATTACH;FMTTYPE=image/jpeg:https://phekgovernmentcollege.com/wp-content/uploads/2021/05/pgc_featured_img_default.jpg
END:VEVENT
BEGIN:VEVENT
DTSTART;TZID=Asia/Kolkata:20200505T093000
DTEND;TZID=Asia/Kolkata:20200509T150000
DTSTAMP:20260424T191644
CREATED:20190206T161329Z
LAST-MODIFIED:20200213T103424Z
UID:224-1588671000-1589036400@phekgovernmentcollege.com
SUMMARY:Admission for old Students
DESCRIPTION:Admission for old Students
URL:https://phekgovernmentcollege.com/event/admission-for-existing-students/
CATEGORIES:Admissions
ATTACH;FMTTYPE=image/jpeg:https://phekgovernmentcollege.com/wp-content/uploads/2021/05/pgc_featured_img_default.jpg
END:VEVENT
BEGIN:VEVENT
DTSTART;TZID=Asia/Kolkata:20200504T093000
DTEND;TZID=Asia/Kolkata:20200504T170000
DTSTAMP:20260424T191644
CREATED:20200213T105300Z
LAST-MODIFIED:20200213T105300Z
UID:825-1588584600-1588611600@phekgovernmentcollege.com
SUMMARY:Result of B.A./B.Sc. 2nd Semester
DESCRIPTION:Result of B.A./B.Sc. 2nd Semester
URL:https://phekgovernmentcollege.com/event/result-of-b-a-b-sc-2nd-semester-2/
CATEGORIES:General
ATTACH;FMTTYPE=image/jpeg:https://phekgovernmentcollege.com/wp-content/uploads/2021/05/pgc_featured_img_default.jpg
END:VEVENT
BEGIN:VEVENT
DTSTART;TZID=Asia/Kolkata:20200504T090000
DTEND;TZID=Asia/Kolkata:20200504T170000
DTSTAMP:20260424T191644
CREATED:20200504T155100Z
LAST-MODIFIED:20200213T072906Z
UID:221-1588582800-1588611600@phekgovernmentcollege.com
SUMMARY:Result of B.A./B.Sc. 2nd Semester
DESCRIPTION:Declaration of result of B.A./B.Sc. 2nd Semester
URL:https://phekgovernmentcollege.com/event/result-of-b-a-b-sc-2nd-semester/
LOCATION:Phek Government College\, Phek Government College\, Phek\, Nagaland\, 797108\, India
CATEGORIES:Results
ATTACH;FMTTYPE=image/jpeg:https://phekgovernmentcollege.com/wp-content/uploads/2021/05/pgc_featured_img_default.jpg
END:VEVENT
BEGIN:VEVENT
DTSTART;TZID=Asia/Kolkata:20200402T080000
DTEND;TZID=Asia/Kolkata:20200422T170000
DTSTAMP:20260424T191644
CREATED:20190227T122958Z
LAST-MODIFIED:20200212T141704Z
UID:647-1585814400-1587574800@phekgovernmentcollege.com
SUMMARY:End semester exam
DESCRIPTION:End semester exam
URL:https://phekgovernmentcollege.com/event/end-semester-exam/
ATTACH;FMTTYPE=image/jpeg:https://phekgovernmentcollege.com/wp-content/uploads/2021/05/pgc_featured_img_default.jpg
END:VEVENT
BEGIN:VEVENT
DTSTART;TZID=Asia/Kolkata:20200321T080000
DTEND;TZID=Asia/Kolkata:20200321T170000
DTSTAMP:20260424T191644
CREATED:20190227T122538Z
LAST-MODIFIED:20200212T125528Z
UID:643-1584777600-1584810000@phekgovernmentcollege.com
SUMMARY:Parting Social
DESCRIPTION:Parting Social
URL:https://phekgovernmentcollege.com/event/parting-social/
ATTACH;FMTTYPE=image/jpeg:https://phekgovernmentcollege.com/wp-content/uploads/2021/05/pgc_featured_img_default.jpg
END:VEVENT
BEGIN:VEVENT
DTSTART;TZID=Asia/Kolkata:20200307T093000
DTEND;TZID=Asia/Kolkata:20200307T170000
DTSTAMP:20260424T191644
CREATED:20190227T122340Z
LAST-MODIFIED:20200213T105757Z
UID:641-1583573400-1583600400@phekgovernmentcollege.com
SUMMARY:PGCSU election
DESCRIPTION:PGCSU election
URL:https://phekgovernmentcollege.com/event/pgcsu-election/
LOCATION:Phek Government College\, Phek Government College\, Phek\, Nagaland\, 797108\, India
ATTACH;FMTTYPE=image/jpeg:https://phekgovernmentcollege.com/wp-content/uploads/2021/05/pgc_featured_img_default.jpg
END:VEVENT
BEGIN:VEVENT
DTSTART;TZID=Asia/Kolkata:20200303T093000
DTEND;TZID=Asia/Kolkata:20200303T170000
DTSTAMP:20260424T191644
CREATED:20190227T122729Z
LAST-MODIFIED:20200213T132127Z
UID:645-1583227800-1583254800@phekgovernmentcollege.com
SUMMARY:Last date for submission of internal marks and attendance to exam committee
DESCRIPTION:Last date for submission of internal marks and attendance to exam committee
URL:https://phekgovernmentcollege.com/event/last-date-for-submission-of-internal-marks-and-attendance-to-exam-committee-2/
ATTACH;FMTTYPE=image/jpeg:https://phekgovernmentcollege.com/wp-content/uploads/2021/05/pgc_featured_img_default.jpg
END:VEVENT
BEGIN:VEVENT
DTSTART;TZID=Asia/Kolkata:20190919T090000
DTEND;TZID=Asia/Kolkata:20190919T170000
DTSTAMP:20260424T191644
CREATED:20190917T023958Z
LAST-MODIFIED:20190917T024010Z
UID:753-1568883600-1568912400@phekgovernmentcollege.com
SUMMARY:Inspection by Nagaland University
DESCRIPTION:Inspection by Nagaland University
URL:https://phekgovernmentcollege.com/event/inspection-by-nagaland-university/
ATTACH;FMTTYPE=image/jpeg:https://phekgovernmentcollege.com/wp-content/uploads/2021/05/pgc_featured_img_default.jpg
END:VEVENT
END:VCALENDAR