
BEGIN:VCALENDAR
VERSION:2.0
PRODID:-//Phek Government College - ECPv6.15.20//NONSGML v1.0//EN
CALSCALE:GREGORIAN
METHOD:PUBLISH
X-ORIGINAL-URL:https://phekgovernmentcollege.com
X-WR-CALDESC:Events for Phek Government College
REFRESH-INTERVAL;VALUE=DURATION:PT1H
X-Robots-Tag:noindex
X-PUBLISHED-TTL:PT1H
BEGIN:VTIMEZONE
TZID:Asia/Kolkata
BEGIN:STANDARD
TZOFFSETFROM:+0530
TZOFFSETTO:+0530
TZNAME:IST
DTSTART:20180101T000000
END:STANDARD
END:VTIMEZONE
BEGIN:VEVENT
DTSTART;TZID=Asia/Kolkata:20190719T080000
DTEND;TZID=Asia/Kolkata:20190719T170000
DTSTAMP:20260423T234917
CREATED:20190206T162138Z
LAST-MODIFIED:20190227T120351Z
UID:239-1563523200-1563555600@phekgovernmentcollege.com
SUMMARY:Fresher’s Day 2019
DESCRIPTION:Fresher’s Day scheduled on 19th July\, 2019.
URL:https://phekgovernmentcollege.com/event/freshers-day-2018/
CATEGORIES:General
ATTACH;FMTTYPE=image/jpeg:https://phekgovernmentcollege.com/wp-content/uploads/2021/05/pgc_featured_img_default.jpg
END:VEVENT
END:VCALENDAR