
BEGIN:VCALENDAR
VERSION:2.0
PRODID:-//Phek Government College - ECPv6.15.20//NONSGML v1.0//EN
CALSCALE:GREGORIAN
METHOD:PUBLISH
X-WR-CALNAME:Phek Government College
X-ORIGINAL-URL:https://phekgovernmentcollege.com
X-WR-CALDESC:Events for Phek Government College
REFRESH-INTERVAL;VALUE=DURATION:PT1H
X-Robots-Tag:noindex
X-PUBLISHED-TTL:PT1H
BEGIN:VTIMEZONE
TZID:Asia/Kolkata
BEGIN:STANDARD
TZOFFSETFROM:+0530
TZOFFSETTO:+0530
TZNAME:IST
DTSTART:20190101T000000
END:STANDARD
END:VTIMEZONE
BEGIN:VEVENT
DTSTART;TZID=Asia/Kolkata:20200519T080000
DTEND;TZID=Asia/Kolkata:20200519T160000
DTSTAMP:20260423T124150
CREATED:20190206T161539Z
LAST-MODIFIED:20200213T104255Z
UID:227-1589875200-1589904000@phekgovernmentcollege.com
SUMMARY:Commencement of classes
DESCRIPTION:Commencement of classes
URL:https://phekgovernmentcollege.com/event/class-starts-for-3rd-and-5th-semesters/
CATEGORIES:General
ATTACH;FMTTYPE=image/jpeg:https://phekgovernmentcollege.com/wp-content/uploads/2021/05/pgc_featured_img_default.jpg
END:VEVENT
END:VCALENDAR